BEGIN:VCALENDAR
VERSION:2.0
PRODID:-//Munster Agricultural Society//EVENT 1.0//EN
METHOD:PUBLISH
BEGIN:VEVENT
SUMMARY:Irish Working Federation Working Dog Annual Show 2026
UID:960ed4f858677a56c07bd78cddb55270
SEQUENCE:0
DTSTART:20260627T130000
DTEND:20260627T180000
ORGANIZER;CN=Munster Agricultural Society:MAILTO:info@munsteragriculturalsociety.com
LOCATION:Cork Showgrounds, Curraheen Road, Cork
DTSTAMP:20260420T192251
DESCRIPTION:<p>Annual Show 2026</p>
URL:https://www.munsteragriculturalsociety.com/events/irish-working-federation-working-dog-annual-show-2026
END:VEVENT
END:VCALENDAR